BEGIN:VCALENDAR
VERSION:2.0
PRODID:-//ChamberMaster//Event Calendar 2.0//EN
METHOD:PUBLISH
X-PUBLISHED-TTL:P1H
REFRESH-INTERVAL:P1H
CALSCALE:GREGORIAN
BEGIN:VTIMEZONE
TZID:America/New_York
BEGIN:DAYLIGHT
RRULE:FREQ=YEARLY;BYMONTH=3;BYDAY=2SU
DTSTART:20070101T000000
TZOFFSETFROM:-0500
TZOFFSETTO:-0400
TZNAME:Eastern Daylight Time
END:DAYLIGHT
BEGIN:STANDARD
RRULE:FREQ=YEARLY;BYMONTH=11;BYDAY=1SU
DTSTART:20070101T000000
TZOFFSETFROM:-0400
TZOFFSETTO:-0500
TZNAME:Eastern Standard Time
END:STANDARD
END:VTIMEZONE
BEGIN:VEVENT
DTSTART;TZID=America/New_York:20241008T080000
DTEND;TZID=America/New_York:20241008T090000
X-MICROSOFT-CDO-ALLDAYEVENT:FALSE
SUMMARY:October YP Coffee & Networking
DESCRIPTION:Come out and meet other young professionals in the Westfield/Indianapolis area who either work and/or live in Westfield. The event is free and open to all Young Professionals under 40! Don't miss out on your chance to network with community professionals and gain valuable insight towards becoming a leader in your community. Register now and bring your coworkers for complimentary coffee and continental breakfast at Hampton Inn Westfield!For our October Coffee\, Gary Scher will be speaking on Business Entrepreneurship & Corporate Mentoring! Gary is a very active retiree in the Westfield community. You are likely to find him on a golf course\, volunteering with the Westfield Police Department or playing 'Golden Tee' at Joe's Grille. Gary earned this retirement after his long career that took him places he never expected. He started with military and eventually found himself as a CEO and founder of a company overseeing the building and operations of dialysis facilities across the country. Gary has a passion for mentoring and is eager to share his journey through the corporate world. His advice from years in the workforce is transferable to a diversity of career paths. At our heart\, the Westfield Young Professionals Council is a networking group for young professionals under 40 in Westfield\, Indiana\, but we are more than just that. We offer a space for people to grow their careers\, for those new to Hamilton County and Indy to make lasting friendships\, and for YPs to develop themselves personally. Through this opportunity we know that YPs will become invested members of the community\, looking for ways to give back to the Westfield community and each other.
X-ALT-DESC;FMTTYPE=text/html:<!DOCTYPE html><html><head><title></title></head><body aria-disabled="false"><p><span style="font-family: Arial\, Helvetica\, sans-serif\; font-size: 14px\;">Come out and meet other young professionals in the Westfield/Indianapolis area who either work and/or live in Westfield. The event is free and open to all Young Professionals under 40! <span style="font-size: 14px\;"><span style="font-family: Arial\, Helvetica\, sans-serif\;"><span style="color: rgb(0\, 0\, 0)\; font-style: normal\; font-variant-ligatures: normal\; font-variant-caps: normal\; font-weight: 400\; letter-spacing: normal\; orphans: 2\; text-align: left\; text-indent: 0px\; text-transform: none\; widows: 2\; word-spacing: 0px\; -webkit-text-stroke-width: 0px\; white-space: normal\; background-color: rgb(255\, 255\, 255)\; text-decoration-thickness: initial\; text-decoration-style: initial\; text-decoration-color: initial\; float: none\; display: inline !important\;">Don&#39\;t miss out on your chance to network with community professionals and gain valuable insight towards becoming a leader in your community.&nbsp\;</span></span></span><span style="font-size: 14px\;"><span style="font-family: Arial\, Helvetica\, sans-serif\;"><span style="color: rgb(0\, 0\, 0)\;">Register now</span><span style="color: rgb(0\, 0\, 0)\; font-style: normal\; font-variant-ligatures: normal\; font-variant-caps: normal\; font-weight: 400\; letter-spacing: normal\; orphans: 2\; text-align: left\; text-indent: 0px\; text-transform: none\; widows: 2\; word-spacing: 0px\; -webkit-text-stroke-width: 0px\; white-space: normal\; background-color: rgb(255\, 255\, 255)\; text-decoration-thickness: initial\; text-decoration-style: initial\; text-decoration-color: initial\; float: none\; display: inline !important\;">&nbsp\;</span></span></span><strong fr-original-style="" style="font-weight: 700\;"><span style="font-size: 14px\;"><span style="font-family: Arial\, Helvetica\, sans-serif\;"><span style="color: rgb(0\, 0\, 0)\; font-style: normal\; font-variant-ligatures: normal\; font-variant-caps: normal\; font-weight: 400\; letter-spacing: normal\; orphans: 2\; text-align: left\; text-indent: 0px\; text-transform: none\; widows: 2\; word-spacing: 0px\; -webkit-text-stroke-width: 0px\; white-space: normal\; background-color: rgb(255\, 255\, 255)\; text-decoration-thickness: initial\; text-decoration-style: initial\; text-decoration-color: initial\; float: none\; display: inline !important\;">and bring your coworkers for complimentary coffee and continental breakfast at Hampton Inn Westfield!</span></span></span></strong></span></p><p><span style="font-size: 14px\;"><span style="font-family: Arial\,Helvetica\,sans-serif\;">For our October Coffee\, Gary Scher will be speaking on Business Entrepreneurship &amp\; Corporate Mentoring! Gary is a very active retiree in the Westfield community. You are likely to find him on a golf course\, volunteering with the Westfield Police Department or playing &lsquo\;Golden Tee&rsquo\; at Joe&rsquo\;s Grille. Gary earned this retirement after his long career that took him places he never expected. He started with military and eventually found himself as a CEO and founder of a company overseeing the building and operations of dialysis facilities across the country. Gary has a passion for mentoring and is eager to share his journey through the corporate world. His advice from years in the workforce is transferable to a diversity of career paths.&nbsp\;</span></span></p><p><span style="font-family: Arial\, Helvetica\, sans-serif\; font-size: 14px\;">At our heart\, the Westfield Young Professionals Council is a networking group for young professionals under 40 in Westfield\, Indiana\, but we are more than just that. We offer a space for people to grow their careers\, for those new to Hamilton County and Indy to make lasting friendships\, and for YPs to develop themselves personally. Through this opportunity we know that YPs will become invested members of the community\, looking for ways to give back to the Westfield community and each other.</span></p></body></html>
LOCATION:17400 Wheeler Road Westfield IN 46074
UID:e.3000.887142
SEQUENCE:3
DTSTAMP:20260422T041530Z
URL:https://business.westfieldchamberindy.com/event-calendar/Details/october-yp-coffee-networking-995024?sourceTypeId=Hub
END:VEVENT
END:VCALENDAR
